BEGIN:VCALENDAR
VERSION:2.0
PRODID:-//Lake Ashton CDD - ECPv6.15.20//NONSGML v1.0//EN
CALSCALE:GREGORIAN
METHOD:PUBLISH
X-ORIGINAL-URL:https://lakeashtoncdd.com
X-WR-CALDESC:Events for Lake Ashton CDD
REFRESH-INTERVAL;VALUE=DURATION:PT1H
X-Robots-Tag:noindex
X-PUBLISHED-TTL:PT1H
BEGIN:VTIMEZONE
TZID:UTC
BEGIN:STANDARD
TZOFFSETFROM:+0000
TZOFFSETTO:+0000
TZNAME:UTC
DTSTART:20170101T000000
END:STANDARD
END:VTIMEZONE
BEGIN:VEVENT
DTSTART;TZID=UTC:20260420T090000
DTEND;TZID=UTC:20260420T090000
DTSTAMP:20260424T104012
CREATED:20190820T221547Z
LAST-MODIFIED:20260327T162357Z
UID:6092-1776675600-1776675600@lakeashtoncdd.com
SUMMARY:CDD Meeting
DESCRIPTION:
URL:https://lakeashtoncdd.com/event/cdd-meeting-5
LOCATION:Lake Ashton Clubhouse\, 4141 Ashton Club Drive\, Lake Wales\, FL\, 33859\, United States
END:VEVENT
BEGIN:VEVENT
DTSTART;TZID=UTC:20260319T113000
DTEND;TZID=UTC:20260319T113000
DTSTAMP:20260424T104012
CREATED:20190820T221535Z
LAST-MODIFIED:20260303T164646Z
UID:6086-1773919800-1773919800@lakeashtoncdd.com
SUMMARY:Joint CDD Meeting
DESCRIPTION:
URL:https://lakeashtoncdd.com/event/cdd-meeting
LOCATION:Lake Ashton Clubhouse\, 4141 Ashton Club Drive\, Lake Wales\, FL\, 33859\, United States
END:VEVENT
BEGIN:VEVENT
DTSTART;TZID=UTC:20260316T100000
DTEND;TZID=UTC:20260316T100000
DTSTAMP:20260424T104012
CREATED:20190820T221539Z
LAST-MODIFIED:20260303T164621Z
UID:6089-1773655200-1773655200@lakeashtoncdd.com
SUMMARY:Budget Workshop
DESCRIPTION:
URL:https://lakeashtoncdd.com/event/cdd-meeting-exception
LOCATION:Lake Ashton Clubhouse\, 4141 Ashton Club Drive\, Lake Wales\, FL\, 33859\, United States
END:VEVENT
BEGIN:VEVENT
DTSTART;TZID=UTC:20230918T093000
DTEND;TZID=UTC:20230918T093000
DTSTAMP:20260424T104012
CREATED:20190820T221550Z
LAST-MODIFIED:20230822T144912Z
UID:6094-1695029400-1695029400@lakeashtoncdd.com
SUMMARY:CDD Meeting
DESCRIPTION:
URL:https://lakeashtoncdd.com/event/cdd-meeting-7
LOCATION:Lake Ashton Clubhouse\, 4141 Ashton Club Drive\, Lake Wales\, FL\, 33859\, United States
END:VEVENT
BEGIN:VEVENT
DTSTART;TZID=UTC:20220829T093000
DTEND;TZID=UTC:20220829T093000
DTSTAMP:20260424T104012
CREATED:20190820T221549Z
LAST-MODIFIED:20220728T144747Z
UID:6093-1661765400-1661765400@lakeashtoncdd.com
SUMMARY:Joint Workshop Meeting
DESCRIPTION:
URL:https://lakeashtoncdd.com/event/cdd-meeting-6
LOCATION:Health & Fitness Center\, 6052 Pebble Beach Boulevard\, Winter Haven\, FL\, 33884\, United States
END:VEVENT
BEGIN:VEVENT
DTSTART;TZID=UTC:20200316T103000
DTEND;TZID=UTC:20200316T103000
DTSTAMP:20260424T104012
CREATED:20190820T221541Z
LAST-MODIFIED:20200210T194257Z
UID:6090-1584354600-1584354600@lakeashtoncdd.com
SUMMARY:CDD Meeting
DESCRIPTION:
URL:https://lakeashtoncdd.com/event/cdd-meeting-exception-2
LOCATION:Lake Ashton Clubhouse\, 4141 Ashton Club Drive\, Lake Wales\, FL\, 33859\, United States
END:VEVENT
BEGIN:VEVENT
DTSTART;TZID=UTC:20200313T110000
DTEND;TZID=UTC:20200313T110000
DTSTAMP:20260424T104012
CREATED:20190820T221818Z
LAST-MODIFIED:20200210T192225Z
UID:6096-1584097200-1584097200@lakeashtoncdd.com
SUMMARY:Joint Meeting
DESCRIPTION:
URL:https://lakeashtoncdd.com/event/cdd-meeting-8
LOCATION:Health & Fitness Center\, 6052 Pebble Beach Boulevard\, Winter Haven\, FL\, 33884\, United States
END:VEVENT
BEGIN:VEVENT
DTSTART;TZID=UTC:20200228T090000
DTEND;TZID=UTC:20200228T090000
DTSTAMP:20260424T104012
CREATED:20190820T221819Z
LAST-MODIFIED:20200214T231448Z
UID:6097-1582880400-1582880400@lakeashtoncdd.com
SUMMARY:CDD Meeting
DESCRIPTION:
URL:https://lakeashtoncdd.com/event/cdd-meeting-9
LOCATION:Lake Ashton Clubhouse\, 4141 Ashton Club Drive\, Lake Wales\, FL\, 33859\, United States
END:VEVENT
BEGIN:VEVENT
DTSTART;TZID=UTC:20190722T103000
DTEND;TZID=UTC:20190722T103000
DTSTAMP:20260424T104012
CREATED:20190820T221551Z
LAST-MODIFIED:20190820T221852Z
UID:6095-1563791400-1563791400@lakeashtoncdd.com
SUMMARY:Budget Hearing
DESCRIPTION:
URL:https://lakeashtoncdd.com/event/budget-hearing
LOCATION:Health & Fitness Center\, 6052 Pebble Beach Boulevard\, Winter Haven\, FL\, 33884\, United States
END:VEVENT
BEGIN:VEVENT
DTSTART;TZID=UTC:20181119T103000
DTEND;TZID=UTC:20181119T103000
DTSTAMP:20260424T104012
CREATED:20190820T221536Z
LAST-MODIFIED:20190820T221847Z
UID:6087-1542623400-1542623400@lakeashtoncdd.com
SUMMARY:CDD Meeting
DESCRIPTION:
URL:https://lakeashtoncdd.com/event/cdd-meeting-2
LOCATION:Health & Fitness Center\, 6052 Pebble Beach Boulevard\, Winter Haven\, FL\, 33884\, United States
END:VEVENT
END:VCALENDAR